BEGIN:VCALENDAR
VERSION:2.0
PRODID:-//Leaps &amp; Bounds Rabbit Rescue, Inc. - ECPv6.5.0//NONSGML v1.0//EN
CALSCALE:GREGORIAN
METHOD:PUBLISH
X-ORIGINAL-URL:https://leapsandboundsrabbitrescue.org
X-WR-CALDESC:Events for Leaps &amp; Bounds Rabbit Rescue, Inc.
REFRESH-INTERVAL;VALUE=DURATION:PT1H
X-Robots-Tag:noindex
X-PUBLISHED-TTL:PT1H
BEGIN:VTIMEZONE
TZID:America/Denver
BEGIN:DAYLIGHT
TZOFFSETFROM:-0700
TZOFFSETTO:-0600
TZNAME:MDT
DTSTART:20250309T090000
END:DAYLIGHT
BEGIN:STANDARD
TZOFFSETFROM:-0600
TZOFFSETTO:-0700
TZNAME:MST
DTSTART:20251102T080000
END:STANDARD
END:VTIMEZONE
BEGIN:VEVENT
DTSTART;TZID=America/Denver:20251220T120000
DTEND;TZID=America/Denver:20251220T160000
DTSTAMP:20260425T044912
CREATED:20251216T040137Z
LAST-MODIFIED:20251216T040137Z
UID:1949-1766232000-1766246400@leapsandboundsrabbitrescue.org
SUMMARY:Adoption Event / Home for the Holidays Pickup
DESCRIPTION:The last adoption event of 2025! \nAll of our rabbits go to foster homes for the holidays. They will be picked up over the course of the day. If you’re looking to meet a particular rabbit\, please email ahead to leapsandboundsrabbitrescue@gmail.com.
URL:https://leapsandboundsrabbitrescue.org/event/adoption-event-home-for-the-holidays-pickup-2/
LOCATION:Petco\, 1917 Douglas Blvd.\, Roseville\, CA\, 95661\, United States
END:VEVENT
END:VCALENDAR